BEGIN:VCALENDAR
VERSION:2.0
PRODID:-//La Mierda de Vaca - ECPv6.15.13//NONSGML v1.0//EN
CALSCALE:GREGORIAN
METHOD:PUBLISH
X-ORIGINAL-URL:https://lamierdadevaca.com
X-WR-CALDESC:Events for La Mierda de Vaca
REFRESH-INTERVAL;VALUE=DURATION:PT1H
X-Robots-Tag:noindex
X-PUBLISHED-TTL:PT1H
BEGIN:VTIMEZONE
TZID:UTC
BEGIN:STANDARD
TZOFFSETFROM:+0000
TZOFFSETTO:+0000
TZNAME:UTC
DTSTART:20230101T000000
END:STANDARD
END:VTIMEZONE
BEGIN:VEVENT
DTSTART;VALUE=DATE:20240404
DTEND;VALUE=DATE:20240407
DTSTAMP:20260424T071323
CREATED:20240120T000655Z
LAST-MODIFIED:20240120T000655Z
UID:10000032-1712188800-1712447999@lamierdadevaca.com
SUMMARY:'ABC de la Agricultura Orgánica' en URUGUAY
DESCRIPTION:¡Amigos de LMDV!  ¡Regresamos a URUGUAY!  Este próximo 4\, 5 y 6 de Abril de 2024 estaremos dictando un NUEVO ‘ABC de la Agricultura Orgánica’ en San Jacinto.\n\n\n+ INFO: +598 092320321
URL:https://lamierdadevaca.com/event/abc-de-la-agricultura-organica-en-uruguay/
ATTACH;FMTTYPE=image/png:https://lamierdadevaca.com/wp-content/uploads/2024/01/Jairo-Publicacion-1.png
END:VEVENT
END:VCALENDAR