BEGIN:VCALENDAR
VERSION:2.0
PRODID:-//La Mierda de Vaca - ECPv6.15.13//NONSGML v1.0//EN
CALSCALE:GREGORIAN
METHOD:PUBLISH
X-WR-CALNAME:La Mierda de Vaca
X-ORIGINAL-URL:https://lamierdadevaca.com
X-WR-CALDESC:Eventos para La Mierda de Vaca
REFRESH-INTERVAL;VALUE=DURATION:PT1H
X-Robots-Tag:noindex
X-PUBLISHED-TTL:PT1H
BEGIN:VTIMEZONE
TZID:UTC
BEGIN:STANDARD
TZOFFSETFROM:+0000
TZOFFSETTO:+0000
TZNAME:UTC
DTSTART:20220101T000000
END:STANDARD
END:VTIMEZONE
BEGIN:VEVENT
DTSTART;VALUE=DATE:20231102
DTEND;VALUE=DATE:20231105
DTSTAMP:20260424T135656
CREATED:20230209T150335Z
LAST-MODIFIED:20230903T201521Z
UID:10000006-1698883200-1699142399@lamierdadevaca.com
SUMMARY:ABC of Organic Agriculture in Argentina
DESCRIPTION:Information and registration: agriculturaregenerativa.cursos@gmail.com
URL:https://lamierdadevaca.com/event/abc-de-la-agricultura-organica-en-argentina-2/
ATTACH;FMTTYPE=image/jpeg:https://lamierdadevaca.com/wp-content/uploads/2023/02/ABC-RIO-NEGRO_HISTORIA.jpg-Todos-logos-scaled.jpg
END:VEVENT
END:VCALENDAR