BEGIN:VCALENDAR
VERSION:2.0
PRODID:-//La Mierda de Vaca - ECPv6.15.13//NONSGML v1.0//EN
CALSCALE:GREGORIAN
METHOD:PUBLISH
X-ORIGINAL-URL:https://lamierdadevaca.com
X-WR-CALDESC:Eventos para La Mierda de Vaca
REFRESH-INTERVAL;VALUE=DURATION:PT1H
X-Robots-Tag:noindex
X-PUBLISHED-TTL:PT1H
BEGIN:VTIMEZONE
TZID:UTC
BEGIN:STANDARD
TZOFFSETFROM:+0000
TZOFFSETTO:+0000
TZNAME:UTC
DTSTART:20220101T000000
END:STANDARD
END:VTIMEZONE
BEGIN:VEVENT
DTSTART;VALUE=DATE:20231117
DTEND;VALUE=DATE:20231120
DTSTAMP:20260424T123906
CREATED:20231026T225505Z
LAST-MODIFIED:20231026T225505Z
UID:10000027-1700179200-1700438399@lamierdadevaca.com
SUMMARY:"CURSO de AGRICULTURA ORGÁNICA\, Bio-Insumos  y Bio-Factorias" En San Rafael\, Antioquia.
DESCRIPTION:Lugar: VANADURGA ASHRAM\, KM7\, San Rafael Antioquia \nInfo + Inscripciones: +57 333 6472885
URL:https://lamierdadevaca.com/event/curso-de-agricultura-organica-bio-insumos-y-bio-factorias-en-san-rafael-antioquia/
ATTACH;FMTTYPE=image/jpeg:https://lamierdadevaca.com/wp-content/uploads/2023/10/394533800_878263710745993_6785357401014838223_n.jpg
END:VEVENT
END:VCALENDAR