BEGIN:VCALENDAR
VERSION:2.0
PRODID:-//La Mierda de Vaca - ECPv6.15.13//NONSGML v1.0//EN
CALSCALE:GREGORIAN
METHOD:PUBLISH
X-ORIGINAL-URL:https://lamierdadevaca.com
X-WR-CALDESC:Eventos para La Mierda de Vaca
REFRESH-INTERVAL;VALUE=DURATION:PT1H
X-Robots-Tag:noindex
X-PUBLISHED-TTL:PT1H
BEGIN:VTIMEZONE
TZID:UTC
BEGIN:STANDARD
TZOFFSETFROM:+0000
TZOFFSETTO:+0000
TZNAME:UTC
DTSTART:20220101T000000
END:STANDARD
END:VTIMEZONE
BEGIN:VEVENT
DTSTART;VALUE=DATE:20231130
DTEND;VALUE=DATE:20231203
DTSTAMP:20260424T112152
CREATED:20231016T162411Z
LAST-MODIFIED:20231016T163347Z
UID:10000025-1701302400-1701561599@lamierdadevaca.com
SUMMARY:"ABC de la Agricultura Orgánica" en PARAGUAY
DESCRIPTION:El evento se realizará en la ciudad de San Ignacio\, en el departamento de Misiones. \nInfo e Inscripciones: \n+595 982 261643 \nagriculturaregenerativa.cursos@gmail.com
URL:https://lamierdadevaca.com/event/abc-de-la-agricultura-organica-en-paraguay/
ATTACH;FMTTYPE=image/png:https://lamierdadevaca.com/wp-content/uploads/2023/10/Captura-de-pantalla-2023-10-16-a-las-11.22.16-a.m.png
END:VEVENT
END:VCALENDAR