BEGIN:VCALENDAR
VERSION:2.0
PRODID:-//La Mierda de Vaca - ECPv6.15.13//NONSGML v1.0//EN
CALSCALE:GREGORIAN
METHOD:PUBLISH
X-ORIGINAL-URL:https://lamierdadevaca.com
X-WR-CALDESC:Eventos para La Mierda de Vaca
REFRESH-INTERVAL;VALUE=DURATION:PT1H
X-Robots-Tag:noindex
X-PUBLISHED-TTL:PT1H
BEGIN:VTIMEZONE
TZID:UTC
BEGIN:STANDARD
TZOFFSETFROM:+0000
TZOFFSETTO:+0000
TZNAME:UTC
DTSTART:20230101T000000
END:STANDARD
END:VTIMEZONE
BEGIN:VEVENT
DTSTART;VALUE=DATE:20240509
DTEND;VALUE=DATE:20240512
DTSTAMP:20260424T014343
CREATED:20240426T162120Z
LAST-MODIFIED:20240426T162120Z
UID:10000041-1715212800-1715471999@lamierdadevaca.com
SUMMARY:"ABC de la Agricultura Orgánica" En Guatemala
DESCRIPTION:Lugar: San Miguel Dueñas\, Antigua Guatemala \nFecha: 9\, 10 y 11 de Mayo \nInscripciones: +502 5466 8637
URL:https://lamierdadevaca.com/event/abc-de-la-agricultura-organica-en-guatemala/
ATTACH;FMTTYPE=image/jpeg:https://lamierdadevaca.com/wp-content/uploads/2024/04/GUATEMALA-CURSO-1-scaled.jpg
END:VEVENT
END:VCALENDAR