BEGIN:VCALENDAR
VERSION:2.0
PRODID:-//La Mierda de Vaca - ECPv6.15.13//NONSGML v1.0//EN
CALSCALE:GREGORIAN
METHOD:PUBLISH
X-ORIGINAL-URL:https://lamierdadevaca.com
X-WR-CALDESC:Eventos para La Mierda de Vaca
REFRESH-INTERVAL;VALUE=DURATION:PT1H
X-Robots-Tag:noindex
X-PUBLISHED-TTL:PT1H
BEGIN:VTIMEZONE
TZID:UTC
BEGIN:STANDARD
TZOFFSETFROM:+0000
TZOFFSETTO:+0000
TZNAME:UTC
DTSTART:20230101T000000
END:STANDARD
END:VTIMEZONE
BEGIN:VEVENT
DTSTART;VALUE=DATE:20240515
DTEND;VALUE=DATE:20240527
DTSTAMP:20260424T032349
CREATED:20240121T213904Z
LAST-MODIFIED:20240121T214018Z
UID:10000036-1715731200-1716767999@lamierdadevaca.com
SUMMARY:9° Diplomado Latinoamericano de Agricultura Orgánica - Hidalgo México
DESCRIPTION:Fecha: Del 15 al 26 de Mayo de 2024 \nLugar: Huasca\, Hidalgo\, México. \nMódulo de Jairo Restrepo:\nTema: Agricultura Orgánica Avanzada + Cromatografía \nFechas del Módulo de Jairo: 23 al 26 de Mayo \nInfo e Inscripciones: +52 771 219 20 49 – infogaiasana@gmail.com
URL:https://lamierdadevaca.com/event/9-diplomado-latinoamericano-de-agricultura-organica-hidalgo-mexico/
ATTACH;FMTTYPE=image/jpeg:https://lamierdadevaca.com/wp-content/uploads/2024/01/WhatsApp-Image-2024-01-21-at-16.25.45.jpeg
END:VEVENT
END:VCALENDAR