BEGIN:VCALENDAR
VERSION:2.0
PRODID:-//La Mierda de Vaca - ECPv6.15.13//NONSGML v1.0//EN
CALSCALE:GREGORIAN
METHOD:PUBLISH
X-WR-CALNAME:La Mierda de Vaca
X-ORIGINAL-URL:https://lamierdadevaca.com
X-WR-CALDESC:Eventos para La Mierda de Vaca
REFRESH-INTERVAL;VALUE=DURATION:PT1H
X-Robots-Tag:noindex
X-PUBLISHED-TTL:PT1H
BEGIN:VTIMEZONE
TZID:UTC
BEGIN:STANDARD
TZOFFSETFROM:+0000
TZOFFSETTO:+0000
TZNAME:UTC
DTSTART:20230101T000000
END:STANDARD
END:VTIMEZONE
BEGIN:VEVENT
DTSTART;VALUE=DATE:20241127
DTEND;VALUE=DATE:20241130
DTSTAMP:20260423T155450
CREATED:20240825T222554Z
LAST-MODIFIED:20240825T222554Z
UID:10000045-1732665600-1732924799@lamierdadevaca.com
SUMMARY:"ABC" de la Agricultura Orgánica para Producción de Café
DESCRIPTION:Lugar: Huatusco\, Veracruz\, México \nFecha: 27\, 28 y 29 de Noviembre de 2024 \nInscripciones: info@bosquedeniebla.com.mx – +52 273 106 5204 \n 
URL:https://lamierdadevaca.com/event/abc-de-la-agricultura-organica-para-produccion-de-cafe/
ATTACH;FMTTYPE=image/jpeg:https://lamierdadevaca.com/wp-content/uploads/2024/08/Curso_Jairo_Cafe_Las-Canadas-1.jpg
END:VEVENT
END:VCALENDAR