BEGIN:VCALENDAR
VERSION:2.0
PRODID:-//La Mierda de Vaca - ECPv6.15.13//NONSGML v1.0//EN
CALSCALE:GREGORIAN
METHOD:PUBLISH
X-WR-CALNAME:La Mierda de Vaca
X-ORIGINAL-URL:https://lamierdadevaca.com
X-WR-CALDESC:Eventos para La Mierda de Vaca
REFRESH-INTERVAL;VALUE=DURATION:PT1H
X-Robots-Tag:noindex
X-PUBLISHED-TTL:PT1H
BEGIN:VTIMEZONE
TZID:UTC
BEGIN:STANDARD
TZOFFSETFROM:+0000
TZOFFSETTO:+0000
TZNAME:UTC
DTSTART:20240101T000000
END:STANDARD
END:VTIMEZONE
BEGIN:VEVENT
DTSTART;VALUE=DATE:20250825
DTEND;VALUE=DATE:20250829
DTSTAMP:20260420T211924
CREATED:20250520T200553Z
LAST-MODIFIED:20250520T200709Z
UID:10000055-1756080000-1756425599@lamierdadevaca.com
SUMMARY:"10º Diplomado Latinoamericano de Agricultura Orgánica" Hidalgo\, MÉXICO 🇲🇽🇲🇽🇲🇽
DESCRIPTION:Módulo Jairo: Agricultura Orgánica Avanzada \nFechas (Módulo Jairo Restrepo): 25 al 28 de Agosto \nLugar: Huasca\, Hidalgo\, México. \nInscripciones: +52 771 219 20 49 – infogaiasana@gmail.com
URL:https://lamierdadevaca.com/event/10o-diplomado-latinoamericano-de-agricultura-organica-hidalgo-mexico-%f0%9f%87%b2%f0%9f%87%bd%f0%9f%87%b2%f0%9f%87%bd%f0%9f%87%b2%f0%9f%87%bd/
ATTACH;FMTTYPE=image/jpeg:https://lamierdadevaca.com/wp-content/uploads/2025/05/WhatsApp-Image-2025-05-19-at-18.15.05.jpeg
END:VEVENT
END:VCALENDAR