BEGIN:VCALENDAR
VERSION:2.0
PRODID:-//La Mierda de Vaca - ECPv6.15.13//NONSGML v1.0//EN
CALSCALE:GREGORIAN
METHOD:PUBLISH
X-ORIGINAL-URL:https://lamierdadevaca.com
X-WR-CALDESC:Eventos para La Mierda de Vaca
REFRESH-INTERVAL;VALUE=DURATION:PT1H
X-Robots-Tag:noindex
X-PUBLISHED-TTL:PT1H
BEGIN:VTIMEZONE
TZID:UTC
BEGIN:STANDARD
TZOFFSETFROM:+0000
TZOFFSETTO:+0000
TZNAME:UTC
DTSTART:20240101T000000
END:STANDARD
END:VTIMEZONE
BEGIN:VEVENT
DTSTART;VALUE=DATE:20251106
DTEND;VALUE=DATE:20251109
DTSTAMP:20260420T161450
CREATED:20251004T152725Z
LAST-MODIFIED:20251004T152725Z
UID:10000061-1762387200-1762646399@lamierdadevaca.com
SUMMARY:"AGRICULTURA ORGÁNICA AVANZADA" en GUATEMALA 🇬🇹🇬🇹🇬🇹
DESCRIPTION:Fecha: 6\, 7 y 8 de Noviembre \nLugar: San Miguel Dueñas\, Sacatepéquez \nInfo: +502 54606037 \n 
URL:https://lamierdadevaca.com/event/agricultura-organica-avanzada-en-guatemala-%f0%9f%87%ac%f0%9f%87%b9%f0%9f%87%ac%f0%9f%87%b9%f0%9f%87%ac%f0%9f%87%b9/
ATTACH;FMTTYPE=image/png:https://lamierdadevaca.com/wp-content/uploads/2025/10/Captura-de-pantalla-2025-10-04-a-las-5.25.27-p.m.png
END:VEVENT
END:VCALENDAR