BEGIN:VCALENDAR
VERSION:2.0
PRODID:-//La Mierda de Vaca - ECPv6.15.13//NONSGML v1.0//EN
CALSCALE:GREGORIAN
METHOD:PUBLISH
X-WR-CALNAME:La Mierda de Vaca
X-ORIGINAL-URL:https://lamierdadevaca.com
X-WR-CALDESC:Eventos para La Mierda de Vaca
REFRESH-INTERVAL;VALUE=DURATION:PT1H
X-Robots-Tag:noindex
X-PUBLISHED-TTL:PT1H
BEGIN:VTIMEZONE
TZID:UTC
BEGIN:STANDARD
TZOFFSETFROM:+0000
TZOFFSETTO:+0000
TZNAME:UTC
DTSTART:20240101T000000
END:STANDARD
END:VTIMEZONE
BEGIN:VEVENT
DTSTART;VALUE=DATE:20251118
DTEND;VALUE=DATE:20251123
DTSTAMP:20260420T224250
CREATED:20251004T153049Z
LAST-MODIFIED:20251004T153118Z
UID:10000062-1763424000-1763855999@lamierdadevaca.com
SUMMARY:"Producción de Café Orgánico y Análisis Cromatográfico" Veracruz\, MÉXICO 🇲🇽🇲🇽🇲🇽
DESCRIPTION:Fecha: 18 a 22 de Noviembre \nLugar: Las Cañadas\, Huatusco\, Veracruz\, México \nInfo: +52 273 120 8282 \ninfo@bosquedeniebla.com.mx
URL:https://lamierdadevaca.com/event/produccion-de-cafe-organico-y-analisis-cromatografico/
ATTACH;FMTTYPE=image/jpeg:https://lamierdadevaca.com/wp-content/uploads/2025/10/6-1-scaled.jpg
END:VEVENT
BEGIN:VEVENT
DTSTART;VALUE=DATE:20251205
DTEND;VALUE=DATE:20251209
DTSTAMP:20260420T224250
CREATED:20250903T192122Z
LAST-MODIFIED:20250903T192122Z
UID:10000059-1764892800-1765238399@lamierdadevaca.com
SUMMARY:"DIPLOMATURA REGENERATIVA Agricultura\, Ganadería y Apicultura" Marchiquita\, Argentina
DESCRIPTION:🌱 DIPLOMATURA REGENERATIVA\n📅 3 al 10 de diciembre | 📍Quinta Esencia\, Cnel\,. Vidal\, Mar Chiquita. \nModulo Jairo Restrepo: 5\, 6\, 7 y 8 \nUna semana intensiva para transformar los sistemas productivos desde la raíz. \n🔸 Agricultura Orgánica y Cromatografía con el Ing. Agr. Jairo Restrepo Rivera (Colombia) \n💡 Vas a aprender a:\n✔️ Fortalecer la salud de la colmena desde un enfoque ecosistémico\n✔️ Regenerar el suelo y mejorar la rentabilidad con pastoreo racional\n✔️ Leer el suelo con cromatografía y crear tus propios biopreparados \n🌾 Un encuentro teórico-práctico en un entorno de aprendizaje vivencial. \n📲 Consultas e inscripciones:\n+54 9 3548 503184 | hola@quintaesencia.org.ar\n🔎 ¿Querés saber más del lugar? Escribinos y te contamos.
URL:https://lamierdadevaca.com/event/diplomatura-regenerativa-agricultura-ganaderia-y-apicultura-marchiquita-argentina/
ATTACH;FMTTYPE=image/jpeg:https://lamierdadevaca.com/wp-content/uploads/2025/09/1000388381-1-scaled.jpg
END:VEVENT
BEGIN:VEVENT
DTSTART;VALUE=DATE:20251211
DTEND;VALUE=DATE:20251214
DTSTAMP:20260420T224250
CREATED:20250813T230125Z
LAST-MODIFIED:20250813T230125Z
UID:10000058-1765411200-1765670399@lamierdadevaca.com
SUMMARY:"ABC de la Agricultura Orgánica" en Mendoza\, ARGENTINA 🇦🇷🇦🇷🇦🇷
DESCRIPTION:Lugar: Los Claveles\, San Rafael\,  Mendoza\, Argentina. \nFechas: 11 al 13 de Diciembre \nInformes: +54 9 3548 503184
URL:https://lamierdadevaca.com/event/abc-de-la-agricultura-organica-en-mendoza-argentina-%f0%9f%87%a6%f0%9f%87%b7%f0%9f%87%a6%f0%9f%87%b7%f0%9f%87%a6%f0%9f%87%b7/
ATTACH;FMTTYPE=image/jpeg:https://lamierdadevaca.com/wp-content/uploads/2025/08/ABC-MENDOZA_POSTEO-1-scaled.jpg
END:VEVENT
BEGIN:VEVENT
DTSTART;VALUE=DATE:20260312
DTEND;VALUE=DATE:20260314
DTSTAMP:20260420T224250
CREATED:20260211T230721Z
LAST-MODIFIED:20260211T231329Z
UID:10000063-1773273600-1773446399@lamierdadevaca.com
SUMMARY:"Curso en Biofermentos\, Microorganismos y Caldos Minerales" Hijuelas\, CHILE 🇨🇱🇨🇱🇨🇱
DESCRIPTION:Curso en Biofermentos\, Microorganismos y Caldos Minerales aplicados a la agricultura sustentable. \nFecha: 12 y 13 de marzo de 2026 \nLugar: Romeral\,Hijuelas\, Región de Valparaíso. Chile \nContacto: \nMaría Paz Aguilera: +56 971400296 \nYasna Meneses: +56 993002437 \nJudith Osorio: +56 957062062
URL:https://lamierdadevaca.com/event/curso-en-biofermentos-microorganismos-y-caldos-minerales-hijuelas-chile-%f0%9f%87%a8%f0%9f%87%b1%f0%9f%87%a8%f0%9f%87%b1%f0%9f%87%a8%f0%9f%87%b1/
ATTACH;FMTTYPE=image/png:https://lamierdadevaca.com/wp-content/uploads/2026/02/Captura-de-pantalla-2026-02-11-a-las-6.06.03-p.m.png
END:VEVENT
BEGIN:VEVENT
DTSTART;VALUE=DATE:20260413
DTEND;VALUE=DATE:20260418
DTSTAMP:20260420T224250
CREATED:20260225T161706Z
LAST-MODIFIED:20260225T161706Z
UID:10000065-1776038400-1776470399@lamierdadevaca.com
SUMMARY:"DIPLOMATURA INTENSIVA en AGRICULTURA ORGÁNICA y REGENERATIVA" - Paraguay 🇵🇾🇵🇾🇵🇾
DESCRIPTION:Lugar: Reserva DejaVú – Natalio\, Itapúa \nFecha: 13 al 17 de abril 2026 \nInscripciones abiertas al: +595 985 527337 \nCupos limitados
URL:https://lamierdadevaca.com/event/diplomatura-intensiva-en-agricultura-organica-y-regenerativa-paraguay-%f0%9f%87%b5%f0%9f%87%be%f0%9f%87%b5%f0%9f%87%be%f0%9f%87%b5%f0%9f%87%be/
ATTACH;FMTTYPE=image/png:https://lamierdadevaca.com/wp-content/uploads/2026/02/IMG_7787.png
END:VEVENT
BEGIN:VEVENT
DTSTART;VALUE=DATE:20260419
DTEND;VALUE=DATE:20260420
DTSTAMP:20260420T224250
CREATED:20260307T183207Z
LAST-MODIFIED:20260307T183207Z
UID:10000067-1776556800-1776643199@lamierdadevaca.com
SUMMARY:"TALLER DE AGRICULTURA ORGÁNICA" Mar de Plata\, Argentina 🇦🇷🇦🇷🇦🇷
DESCRIPTION:Fecha: 19 de Abril (de 9 a 18 Horas) \nLugar: Mar de Plata\, Ecomuna\, Argentina \nInfo e Inscripciones: agriculturaregenerativa.cursos@gmail.com \nEmilce +54 9 3548 503184
URL:https://lamierdadevaca.com/event/taller-de-agricultura-organica-mar-de-plata-argentina-%f0%9f%87%a6%f0%9f%87%b7%f0%9f%87%a6%f0%9f%87%b7%f0%9f%87%a6%f0%9f%87%b7/
ATTACH;FMTTYPE=image/jpeg:https://lamierdadevaca.com/wp-content/uploads/2026/03/PHOTO-2026-03-07-11-00-08.jpg
END:VEVENT
BEGIN:VEVENT
DTSTART;VALUE=DATE:20260424
DTEND;VALUE=DATE:20260427
DTSTAMP:20260420T224250
CREATED:20260225T162138Z
LAST-MODIFIED:20260225T162138Z
UID:10000066-1776988800-1777247999@lamierdadevaca.com
SUMMARY:"ESTABLECIMIENTOS PRODUCTIVOS  y Caminos para lograrlo" - Uruguay 🇺🇾🇺🇾🇺🇾
DESCRIPTION:Lugar: Rivera\, Uruguay \nFecha: 24\, 25 y 26 de Abril \nInscripciones:+598 92347465
URL:https://lamierdadevaca.com/event/establecimientos-productivos-y-caminos-para-lograrlo-uruguay-%f0%9f%87%ba%f0%9f%87%be%f0%9f%87%ba%f0%9f%87%be%f0%9f%87%ba%f0%9f%87%be/
ATTACH;FMTTYPE=image/png:https://lamierdadevaca.com/wp-content/uploads/2026/02/IMG_7786.png
END:VEVENT
BEGIN:VEVENT
DTSTART;VALUE=DATE:20260528
DTEND;VALUE=DATE:20260601
DTSTAMP:20260420T224250
CREATED:20260211T231237Z
LAST-MODIFIED:20260211T231237Z
UID:10000064-1779926400-1780271999@lamierdadevaca.com
SUMMARY:"CURSO INTENSIVO DE AGRICULTURA ORGÁNICA" Hidalgo\, MÉXICO 🇲🇽🇲🇽🇲🇽
DESCRIPTION:En 4 días se transmitirán conceptos teóricos-prácticos\, sobre los cuales se basa la Agricultura Orgánica. Se estudia la salud de la tierra y los alimentos que produce\, a partir del conocimiento Geoevolutivo de los minerales. \nFecha: 28 a 31 de Mayo \nLugar: Huasca\, Hidalgo\, México. \nContacto: +52 7712192049
URL:https://lamierdadevaca.com/event/curso-intensivo-de-agricultura-organica-hidalgo-mexico-%f0%9f%87%b2%f0%9f%87%bd%f0%9f%87%b2%f0%9f%87%bd%f0%9f%87%b2%f0%9f%87%bd/
ATTACH;FMTTYPE=image/jpeg:https://lamierdadevaca.com/wp-content/uploads/2026/02/POST_JAIRO2026_03.jpg
END:VEVENT
BEGIN:VEVENT
DTSTART;VALUE=DATE:20260706
DTEND;VALUE=DATE:20260711
DTSTAMP:20260420T224250
CREATED:20260323T195502Z
LAST-MODIFIED:20260323T195502Z
UID:10000068-1783296000-1783727999@lamierdadevaca.com
SUMMARY:"ABC de la Agricultura Orgánica RENOVADO" Costa Rica 🇨🇷🇨🇷🇨🇷
DESCRIPTION:Hablaremos de nutrición de cultivos con manejo de aminoácidos\, hidrolatos y quelatos 🌱 Además de todos nuestras preparaciones de bio-insumos 💚 Aprenderemos sobre análisis cromatografico de suelos y montaje de bio-factorías ✨ \nCon énfasis en el aprovechamiento de recursos localmente disponibles. \n📆Fecha: 6 al 10 de julio 2026 \n📍 Lugar: Belén\, Heredia\, Costa Rica \n📲 inscripciones: +506 8836 9041
URL:https://lamierdadevaca.com/event/abc-de-la-agricultura-organica-renovado-costa-rica-%f0%9f%87%a8%f0%9f%87%b7%f0%9f%87%a8%f0%9f%87%b7%f0%9f%87%a8%f0%9f%87%b7/
ATTACH;FMTTYPE=image/png:https://lamierdadevaca.com/wp-content/uploads/2026/03/Captura-de-pantalla-2026-03-23-a-las-2.52.12-p.m.png
END:VEVENT
END:VCALENDAR