BEGIN:VCALENDAR
VERSION:2.0
PRODID:-//La Mierda de Vaca - ECPv6.15.13//NONSGML v1.0//EN
CALSCALE:GREGORIAN
METHOD:PUBLISH
X-WR-CALNAME:La Mierda de Vaca
X-ORIGINAL-URL:https://lamierdadevaca.com
X-WR-CALDESC:Eventos para La Mierda de Vaca
REFRESH-INTERVAL;VALUE=DURATION:PT1H
X-Robots-Tag:noindex
X-PUBLISHED-TTL:PT1H
BEGIN:VTIMEZONE
TZID:UTC
BEGIN:STANDARD
TZOFFSETFROM:+0000
TZOFFSETTO:+0000
TZNAME:UTC
DTSTART:20220101T000000
END:STANDARD
END:VTIMEZONE
BEGIN:VEVENT
DTSTART;VALUE=DATE:20240404
DTEND;VALUE=DATE:20240407
DTSTAMP:20260421T011716
CREATED:20240120T001235Z
LAST-MODIFIED:20240120T001235Z
UID:10000034-1712188800-1712447999@lamierdadevaca.com
SUMMARY:‘ABC de la Agricultura Orgánica’ en URUGUAY
DESCRIPTION:¡Amigos de LMDV!  ¡Regresamos a URUGUAY!  Este próximo 4\, 5 y 6 de Abril de 2024 estaremos dictando un NUEVO ‘ABC de la Agricultura Orgánica’ en San Jacinto.\n\n\n+ INFO: +598 092320321
URL:https://lamierdadevaca.com/event/abc-de-la-agricultura-organica-en-uruguay/
ATTACH;FMTTYPE=image/png:https://lamierdadevaca.com/wp-content/uploads/2024/01/Jairo-Publicacion.png
END:VEVENT
BEGIN:VEVENT
DTSTART;VALUE=DATE:20240201
DTEND;VALUE=DATE:20240210
DTSTAMP:20260421T011716
CREATED:20231129T210535Z
LAST-MODIFIED:20231129T210535Z
UID:10000029-1706745600-1707523199@lamierdadevaca.com
SUMMARY:DIPLOMADO INTERNACIONAL "Agricultura Para Todos IV" - Zacatlán\, México.
DESCRIPTION:Del 1 al 9 de Febrero de 2024 \nMódulo de Jairo Restrepo: 3\, 4\, 5 y 6 de Febrero.  \nInfo e Inscripciones: \nWhatsApp: +52 797 125 10 02
URL:https://lamierdadevaca.com/event/diplomado-internacional-agricultura-para-todos-iv-zacatlan-mexico/
ATTACH;FMTTYPE=image/jpeg:https://lamierdadevaca.com/wp-content/uploads/2023/11/image0-1.jpeg
END:VEVENT
BEGIN:VEVENT
DTSTART;VALUE=DATE:20240131
DTEND;VALUE=DATE:20240203
DTSTAMP:20260421T011716
CREATED:20231226T201521Z
LAST-MODIFIED:20231226T201521Z
UID:10000031-1706659200-1706918399@lamierdadevaca.com
SUMMARY:"LA AGROECOLOGÍA A TU ALCANCE" En México.
DESCRIPTION:Fecha: 31 de Enero 1 Y 2 de Febrero de 2024 \nLugar: Jojutla\, Morelos\, México. \nInfo: +52 7343432661
URL:https://lamierdadevaca.com/event/la-agroecologia-a-tu-alcance-en-mexico/
ATTACH;FMTTYPE=image/jpeg:https://lamierdadevaca.com/wp-content/uploads/2023/12/FB_IMG_1703541900837.jpg
END:VEVENT
BEGIN:VEVENT
DTSTART;VALUE=DATE:20231208
DTEND;VALUE=DATE:20231211
DTSTAMP:20260421T011716
CREATED:20231026T225218Z
LAST-MODIFIED:20231026T234235Z
UID:10000026-1701993600-1702252799@lamierdadevaca.com
SUMMARY:"ABC de la Agricultura Orgánica y Pasturas" en Oaxaca\, México
DESCRIPTION:Lugar: Los Causuches s/n\, el Zapotal\, Santa María Tonameca\, Oaxaca\, México \nInfo + Inscripciones: infogaiasana@gmail.com // +52 771 219 20 49
URL:https://lamierdadevaca.com/event/abc-de-la-agricultura-organica-y-pasturas-en-oaxaca-mexico/
ATTACH;FMTTYPE=image/jpeg:https://lamierdadevaca.com/wp-content/uploads/2023/10/CARTEL_CURSOJAIRO_AMAKURA2023_ORIG.jpg
END:VEVENT
BEGIN:VEVENT
DTSTART;VALUE=DATE:20231130
DTEND;VALUE=DATE:20231203
DTSTAMP:20260421T011716
CREATED:20231016T162411Z
LAST-MODIFIED:20231016T163347Z
UID:10000025-1701302400-1701561599@lamierdadevaca.com
SUMMARY:"ABC de la Agricultura Orgánica" en PARAGUAY
DESCRIPTION:El evento se realizará en la ciudad de San Ignacio\, en el departamento de Misiones. \nInfo e Inscripciones: \n+595 982 261643 \nagriculturaregenerativa.cursos@gmail.com
URL:https://lamierdadevaca.com/event/abc-de-la-agricultura-organica-en-paraguay/
ATTACH;FMTTYPE=image/png:https://lamierdadevaca.com/wp-content/uploads/2023/10/Captura-de-pantalla-2023-10-16-a-las-11.22.16-a.m.png
END:VEVENT
BEGIN:VEVENT
DTSTART;VALUE=DATE:20231117
DTEND;VALUE=DATE:20231120
DTSTAMP:20260421T011716
CREATED:20231026T225505Z
LAST-MODIFIED:20231026T225505Z
UID:10000027-1700179200-1700438399@lamierdadevaca.com
SUMMARY:"CURSO de AGRICULTURA ORGÁNICA\, Bio-Insumos  y Bio-Factorias" En San Rafael\, Antioquia.
DESCRIPTION:Lugar: VANADURGA ASHRAM\, KM7\, San Rafael Antioquia \nInfo + Inscripciones: +57 333 6472885
URL:https://lamierdadevaca.com/event/curso-de-agricultura-organica-bio-insumos-y-bio-factorias-en-san-rafael-antioquia/
ATTACH;FMTTYPE=image/jpeg:https://lamierdadevaca.com/wp-content/uploads/2023/10/394533800_878263710745993_6785357401014838223_n.jpg
END:VEVENT
BEGIN:VEVENT
DTSTART;VALUE=DATE:20231109
DTEND;VALUE=DATE:20231111
DTSTAMP:20260421T011716
CREATED:20231026T230902Z
LAST-MODIFIED:20231026T230902Z
UID:10000028-1699488000-1699660799@lamierdadevaca.com
SUMMARY:CONFERENCIAS "Principios de la agricultura orgánica" Rio Negro y Ushuaia - Argentina
DESCRIPTION:Ushuaia: 9 de noviembre | 16 hs \nUniversidad Nacional de Tierra del Fuego – Hipolito Yrigoyen 879 \nRío Grande: 10 de noviembre | 11 hs \nUniversidad Nacional de Tierra del Fuego – Thorne 302
URL:https://lamierdadevaca.com/event/conferencias-principios-de-la-agricultura-organica-rio-negro-y-ushuaia-argentina/
ATTACH;FMTTYPE=image/jpeg:https://lamierdadevaca.com/wp-content/uploads/2023/10/WhatsApp-Image-2023-10-21-at-13.07.29.jpeg
END:VEVENT
BEGIN:VEVENT
DTSTART;VALUE=DATE:20231102
DTEND;VALUE=DATE:20231105
DTSTAMP:20260421T011716
CREATED:20230209T150335Z
LAST-MODIFIED:20230903T201521Z
UID:10000006-1698883200-1699142399@lamierdadevaca.com
SUMMARY:ABC of Organic Agriculture in Argentina
DESCRIPTION:Information and registration: agriculturaregenerativa.cursos@gmail.com
URL:https://lamierdadevaca.com/event/abc-de-la-agricultura-organica-en-argentina-2/
ATTACH;FMTTYPE=image/jpeg:https://lamierdadevaca.com/wp-content/uploads/2023/02/ABC-RIO-NEGRO_HISTORIA.jpg-Todos-logos-scaled.jpg
END:VEVENT
BEGIN:VEVENT
DTSTART;VALUE=DATE:20231012
DTEND;VALUE=DATE:20231015
DTSTAMP:20260421T011716
CREATED:20230802T005150Z
LAST-MODIFIED:20230903T201414Z
UID:10000016-1697068800-1697327999@lamierdadevaca.com
SUMMARY:"NUTRICIÓN DE CULTIVOS\, un Nuevo ABC de la Agricultura Orgánica"
DESCRIPTION:Felices de poder recibirlos una vez más en nuestra querida finca Pachita\, donde podremos intercambiar saberes y experiencias en este nuevo curso con énfasis en Nutrición de Cultivos. \n🌽 Fecha: 12\, 13 y 14 de Octubre\n🌽 Lugar: “Pachita” Cali\, Colombia.\n🌽 Inversión: $1.200.000 COP
URL:https://lamierdadevaca.com/event/nutricion-de-cultivos-un-nuevo-abc-de-la-agricultura-organica/
LOCATION:Pachita\, Cali\, Valle del Cauca\, Colombia
ATTACH;FMTTYPE=image/jpeg:https://lamierdadevaca.com/wp-content/uploads/2023/08/IMAGES-FOR-WEB-copia.jpg
END:VEVENT
BEGIN:VEVENT
DTSTART;VALUE=DATE:20230915
DTEND;VALUE=DATE:20230918
DTSTAMP:20260421T011716
CREATED:20230802T025625Z
LAST-MODIFIED:20230903T201653Z
UID:10000017-1694736000-1694995199@lamierdadevaca.com
SUMMARY:GANADERÍA REGENERATIVA & AGRICULTURA - En Rep. Dom.
DESCRIPTION:¡Nuevo curso en República Dominicana! Con Jairo Restrepo y Juan Dutra \nFecha: 15\, 16 y 17 de Septiembre \nLugar: Santo Domingo y La Vega \nInscripciones: +1 829 292 9926
URL:https://lamierdadevaca.com/event/ganaderia-regenerativa-agricultura-en-rep-dom/
LOCATION:Sto. Dom. – República Dominicana\, República Dominicana
ATTACH;FMTTYPE=image/jpeg:https://lamierdadevaca.com/wp-content/uploads/2023/08/mmmmm.jpg
END:VEVENT
BEGIN:VEVENT
DTSTART;VALUE=DATE:20230901
DTEND;VALUE=DATE:20230910
DTSTAMP:20260421T011716
CREATED:20230517T122218Z
LAST-MODIFIED:20230903T201418Z
UID:10000014-1693526400-1694303999@lamierdadevaca.com
SUMMARY:Agricultura para todos Zacatlán III
DESCRIPTION:Información: 7971251002
URL:https://lamierdadevaca.com/event/agricultura-para-todos-zacatlan-iii/
LOCATION:Sede Hotel Xic Xanac
ATTACH;FMTTYPE=image/jpeg:https://lamierdadevaca.com/wp-content/uploads/2023/05/PHOTO-2023-05-16-14-03-20.jpg
END:VEVENT
END:VCALENDAR