BEGIN:VCALENDAR
VERSION:2.0
PRODID:-//La Mierda de Vaca - ECPv6.15.13//NONSGML v1.0//EN
CALSCALE:GREGORIAN
METHOD:PUBLISH
X-WR-CALNAME:La Mierda de Vaca
X-ORIGINAL-URL:https://lamierdadevaca.com
X-WR-CALDESC:Eventos para La Mierda de Vaca
REFRESH-INTERVAL;VALUE=DURATION:PT1H
X-Robots-Tag:noindex
X-PUBLISHED-TTL:PT1H
BEGIN:VTIMEZONE
TZID:UTC
BEGIN:STANDARD
TZOFFSETFROM:+0000
TZOFFSETTO:+0000
TZNAME:UTC
DTSTART:20230101T000000
END:STANDARD
END:VTIMEZONE
BEGIN:VEVENT
DTSTART;VALUE=DATE:20241205
DTEND;VALUE=DATE:20241208
DTSTAMP:20260423T142108
CREATED:20240206T202610Z
LAST-MODIFIED:20240426T161019Z
UID:10000038-1733356800-1733615999@lamierdadevaca.com
SUMMARY:"ABC de la Agricultura Orgánica" en MAR CHIQUITA - PROV. BUENOS AIRES
DESCRIPTION:Lugar: Mar Chiquita\, Prov. BUENOS AIRES \nFechas: 5\, 6 y 7 de Diciembre \nInformes: +54 9 3548 503184 \nagriculturaregenerativa.cursos@gmail.com
URL:https://lamierdadevaca.com/event/abc-de-la-agricultura-organica-en-mar-chiquita-prov-buenos-aires/
ATTACH;FMTTYPE=image/jpeg:https://lamierdadevaca.com/wp-content/uploads/2024/02/ABC-MAR-CHIQUITA_Nueva-Fecha_POSTEO-scaled.jpg
END:VEVENT
END:VCALENDAR