BEGIN:VCALENDAR
VERSION:2.0
PRODID:-//La Mierda de Vaca - ECPv6.15.13//NONSGML v1.0//EN
CALSCALE:GREGORIAN
METHOD:PUBLISH
X-ORIGINAL-URL:https://lamierdadevaca.com
X-WR-CALDESC:Eventos para La Mierda de Vaca
REFRESH-INTERVAL;VALUE=DURATION:PT1H
X-Robots-Tag:noindex
X-PUBLISHED-TTL:PT1H
BEGIN:VTIMEZONE
TZID:UTC
BEGIN:STANDARD
TZOFFSETFROM:+0000
TZOFFSETTO:+0000
TZNAME:UTC
DTSTART:20240101T000000
END:STANDARD
END:VTIMEZONE
BEGIN:VEVENT
DTSTART;VALUE=DATE:20250410
DTEND;VALUE=DATE:20250413
DTSTAMP:20260423T075053
CREATED:20250211T201505Z
LAST-MODIFIED:20250211T205237Z
UID:10000050-1744243200-1744502399@lamierdadevaca.com
SUMMARY:"ABC de la Agricultura Orgánica" en CHILE 🇨🇱🇨🇱🇨🇱
DESCRIPTION:Fecha: 10\, 11 y 12 de Abril \nLugar: CHILE\, Comuna: Romeral\, Ciudad: Curicó (Ruta J 55\, Camino Ramón Freire kilometro 2\,3) \nInscripciones: +56 98830-5022
URL:https://lamierdadevaca.com/event/abc-de-la-agricultura-organica-en-chile/
ATTACH;FMTTYPE=image/png:https://lamierdadevaca.com/wp-content/uploads/2025/02/Captura-de-pantalla-2025-02-11-a-las-3.10.37 p.m.png
END:VEVENT
BEGIN:VEVENT
DTSTART;VALUE=DATE:20250418
DTEND;VALUE=DATE:20250421
DTSTAMP:20260423T075053
CREATED:20250211T204811Z
LAST-MODIFIED:20250228T011628Z
UID:10000052-1744934400-1745193599@lamierdadevaca.com
SUMMARY:"ABC de la Agricultura Orgánica" en Prov. de BUENOS AIRES. ARGENTINA 🇦🇷
DESCRIPTION:Fecha: 18\, 19 y 20 de Abril \nLugar: Sierra de los Padres\, Prov. de Buenos Aires\, Argentina. \nInscripciones: +54 9 3548 503184
URL:https://lamierdadevaca.com/event/abc-de-la-agricultura-organica-en-prov-de-buenos-aires-argentina/
ATTACH;FMTTYPE=image/jpeg:https://lamierdadevaca.com/wp-content/uploads/2025/02/WhatsApp-Image-2025-02-10-at-11.39.39.jpeg
END:VEVENT
BEGIN:VEVENT
DTSTART;VALUE=DATE:20250424
DTEND;VALUE=DATE:20250425
DTSTAMP:20260423T075053
CREATED:20250228T011540Z
LAST-MODIFIED:20250228T011540Z
UID:10000053-1745452800-1745539199@lamierdadevaca.com
SUMMARY:"Introducción a la Agricultura Orgánica" Santa Fé-ARGENTINA
DESCRIPTION:Fecha: 24 de Abril \nLugar: Santa Fé\, Colonia Taculares – Argentina \nInscripciones: +54 9 3548 503184
URL:https://lamierdadevaca.com/event/introduccion-a-la-agricultura-organica-santa-fe-argentina/
ATTACH;FMTTYPE=image/jpeg:https://lamierdadevaca.com/wp-content/uploads/2025/02/WhatsApp-Image-2025-02-26-at-07.57.31.jpeg
END:VEVENT
END:VCALENDAR