BEGIN:VCALENDAR
VERSION:2.0
PRODID:-//La Mierda de Vaca - ECPv6.15.13//NONSGML v1.0//EN
CALSCALE:GREGORIAN
METHOD:PUBLISH
X-WR-CALNAME:La Mierda de Vaca
X-ORIGINAL-URL:https://lamierdadevaca.com
X-WR-CALDESC:Eventos para La Mierda de Vaca
REFRESH-INTERVAL;VALUE=DURATION:PT1H
X-Robots-Tag:noindex
X-PUBLISHED-TTL:PT1H
BEGIN:VTIMEZONE
TZID:UTC
BEGIN:STANDARD
TZOFFSETFROM:+0000
TZOFFSETTO:+0000
TZNAME:UTC
DTSTART:20240101T000000
END:STANDARD
END:VTIMEZONE
BEGIN:VEVENT
DTSTART;VALUE=DATE:20250715
DTEND;VALUE=DATE:20250719
DTSTAMP:20260420T211923
CREATED:20250211T204258Z
LAST-MODIFIED:20250211T205108Z
UID:10000051-1752537600-1752883199@lamierdadevaca.com
SUMMARY:"Diplomado Internacional Agricultura Para Todos VI" Puebla. MÉXICO 🇲🇽🇲🇽🇲🇽
DESCRIPTION:Fecha: 15\, 16\, 17 y 18 de julio \nLugar: Cholula\, Puebla\, MÉXICA \nInscripciones: +52 797 125 1002
URL:https://lamierdadevaca.com/event/diplomado-internacional-agricultura-para-todos-vi-puebla-mexico/
ATTACH;FMTTYPE=image/png:https://lamierdadevaca.com/wp-content/uploads/2025/02/Captura-de-pantalla-2025-02-11-a-las-3.09.25 p.m-1.png
END:VEVENT
END:VCALENDAR