BEGIN:VCALENDAR
VERSION:2.0
PRODID:-//La Mierda de Vaca - ECPv6.15.13//NONSGML v1.0//EN
CALSCALE:GREGORIAN
METHOD:PUBLISH
X-ORIGINAL-URL:https://lamierdadevaca.com
X-WR-CALDESC:Eventos para La Mierda de Vaca
REFRESH-INTERVAL;VALUE=DURATION:PT1H
X-Robots-Tag:noindex
X-PUBLISHED-TTL:PT1H
BEGIN:VTIMEZONE
TZID:UTC
BEGIN:STANDARD
TZOFFSETFROM:+0000
TZOFFSETTO:+0000
TZNAME:UTC
DTSTART:20240101T000000
END:STANDARD
END:VTIMEZONE
BEGIN:VEVENT
DTSTART;VALUE=DATE:20250902
DTEND;VALUE=DATE:20250906
DTSTAMP:20260422T085924
CREATED:20250522T184449Z
LAST-MODIFIED:20250522T184449Z
UID:10000056-1756771200-1757116799@lamierdadevaca.com
SUMMARY:"Creating a BIO-FACTORY and Chromatography" Indiana\, USA 🇺🇸🇺🇸🇺🇸
DESCRIPTION:Date/Fecha: September 2\, 3\, 4 y 5 \nPlace/Lugar: Sobremesa Farm LLC\, Bloomington\, Indiana. \nContact/Información: sobremesafarm@gmail.com / sobremesafarm.com
URL:https://lamierdadevaca.com/event/creating-a-bio-factory-and-chromatography-indiana-usa-%f0%9f%87%ba%f0%9f%87%b8%f0%9f%87%ba%f0%9f%87%b8%f0%9f%87%ba%f0%9f%87%b8/
ATTACH;FMTTYPE=image/png:https://lamierdadevaca.com/wp-content/uploads/2025/05/Captura-de-pantalla-2025-05-22-a-las-1.43.28 p.m.png
END:VEVENT
BEGIN:VEVENT
DTSTART;VALUE=DATE:20250917
DTEND;VALUE=DATE:20250922
DTSTAMP:20260422T085924
CREATED:20250731T204108Z
LAST-MODIFIED:20250813T225402Z
UID:10000057-1758067200-1758499199@lamierdadevaca.com
SUMMARY:"ABC de la Agricultura Orgánica" en ECUADOR 🇪🇨🇪🇨🇪🇨
DESCRIPTION:Fecha: 17 al 21 de Septiembre \nLugar: Pimampiro\, Imbabura – Ecuador \nInfo: +593 98 544 7801 \naulaviva2025@tierravivaecuador.org
URL:https://lamierdadevaca.com/event/abc-de-la-agricultura-organica-en-ecuador-%f0%9f%87%aa%f0%9f%87%a8%f0%9f%87%aa%f0%9f%87%a8%f0%9f%87%aa%f0%9f%87%a8/
ATTACH;FMTTYPE=image/png:https://lamierdadevaca.com/wp-content/uploads/2025/07/Captura-de-pantalla-2025-07-31-a-las-3.39.18-p.m.png
END:VEVENT
END:VCALENDAR