BEGIN:VCALENDAR
VERSION:2.0
PRODID:-//La Mierda de Vaca - ECPv6.15.13//NONSGML v1.0//EN
CALSCALE:GREGORIAN
METHOD:PUBLISH
X-ORIGINAL-URL:https://lamierdadevaca.com
X-WR-CALDESC:Eventos para La Mierda de Vaca
REFRESH-INTERVAL;VALUE=DURATION:PT1H
X-Robots-Tag:noindex
X-PUBLISHED-TTL:PT1H
BEGIN:VTIMEZONE
TZID:UTC
BEGIN:STANDARD
TZOFFSETFROM:+0000
TZOFFSETTO:+0000
TZNAME:UTC
DTSTART:20240101T000000
END:STANDARD
END:VTIMEZONE
BEGIN:VEVENT
DTSTART;VALUE=DATE:20251205
DTEND;VALUE=DATE:20251209
DTSTAMP:20260420T132119
CREATED:20250903T192122Z
LAST-MODIFIED:20250903T192122Z
UID:10000059-1764892800-1765238399@lamierdadevaca.com
SUMMARY:"DIPLOMATURA REGENERATIVA Agricultura\, Ganadería y Apicultura" Marchiquita\, Argentina
DESCRIPTION:🌱 DIPLOMATURA REGENERATIVA\n📅 3 al 10 de diciembre | 📍Quinta Esencia\, Cnel\,. Vidal\, Mar Chiquita. \nModulo Jairo Restrepo: 5\, 6\, 7 y 8 \nUna semana intensiva para transformar los sistemas productivos desde la raíz. \n🔸 Agricultura Orgánica y Cromatografía con el Ing. Agr. Jairo Restrepo Rivera (Colombia) \n💡 Vas a aprender a:\n✔️ Fortalecer la salud de la colmena desde un enfoque ecosistémico\n✔️ Regenerar el suelo y mejorar la rentabilidad con pastoreo racional\n✔️ Leer el suelo con cromatografía y crear tus propios biopreparados \n🌾 Un encuentro teórico-práctico en un entorno de aprendizaje vivencial. \n📲 Consultas e inscripciones:\n+54 9 3548 503184 | hola@quintaesencia.org.ar\n🔎 ¿Querés saber más del lugar? Escribinos y te contamos.
URL:https://lamierdadevaca.com/event/diplomatura-regenerativa-agricultura-ganaderia-y-apicultura-marchiquita-argentina/
ATTACH;FMTTYPE=image/jpeg:https://lamierdadevaca.com/wp-content/uploads/2025/09/1000388381-1-scaled.jpg
END:VEVENT
BEGIN:VEVENT
DTSTART;VALUE=DATE:20251211
DTEND;VALUE=DATE:20251214
DTSTAMP:20260420T132119
CREATED:20250813T230125Z
LAST-MODIFIED:20250813T230125Z
UID:10000058-1765411200-1765670399@lamierdadevaca.com
SUMMARY:"ABC de la Agricultura Orgánica" en Mendoza\, ARGENTINA 🇦🇷🇦🇷🇦🇷
DESCRIPTION:Lugar: Los Claveles\, San Rafael\,  Mendoza\, Argentina. \nFechas: 11 al 13 de Diciembre \nInformes: +54 9 3548 503184
URL:https://lamierdadevaca.com/event/abc-de-la-agricultura-organica-en-mendoza-argentina-%f0%9f%87%a6%f0%9f%87%b7%f0%9f%87%a6%f0%9f%87%b7%f0%9f%87%a6%f0%9f%87%b7/
ATTACH;FMTTYPE=image/jpeg:https://lamierdadevaca.com/wp-content/uploads/2025/08/ABC-MENDOZA_POSTEO-1-scaled.jpg
END:VEVENT
END:VCALENDAR